BEGIN:VCALENDAR
VERSION:2.0
PRODID:-//Tukios.com/
BEGIN:VEVENT
UID:da994162-3c00-4253-aa4e-8f661490d800@www.reynoldslovefuneralhome.com
DTSTAMP:20260420T112047Z
DTSTART:20260420T150000Z
DTEND:20260420T160000Z
SUMMARY:Funeral Service
DESCRIPTION:
URL:https://www.reynoldslovefuneralhome.com/obituaries/lavonne-kopf
LOCATION:First Lutheran Church 42957 Buffalo Rd  Lexington NE 68850
GEO:41.0127462;-99.8145442
END:VEVENT
END:VCALENDAR