BEGIN:VCALENDAR
VERSION:2.0
PRODID:-//Tukios.com/
BEGIN:VEVENT
UID:2b18efb7-8890-4ac4-802a-de0c658deebd@www.reynoldslovefuneralhome.com
DTSTAMP:20260420T111404Z
DTSTART:20260420T140000Z
DTEND:20260420T150000Z
SUMMARY:Visitation
DESCRIPTION:
URL:https://www.reynoldslovefuneralhome.com/obituaries/lavonne-kopf
LOCATION:First Lutheran Church 42957 Buffalo Rd  Lexington NE 68850
GEO:41.0127462;-99.8145442
END:VEVENT
END:VCALENDAR